BEGIN:VCALENDAR
VERSION:2.0
PRODID:-//共に学ぼう - ECPv6.15.0.1//NONSGML v1.0//EN
CALSCALE:GREGORIAN
METHOD:PUBLISH
X-ORIGINAL-URL:https://6k.kibusi.com
X-WR-CALDESC:共に学ぼう のイベント
REFRESH-INTERVAL;VALUE=DURATION:PT1H
X-Robots-Tag:noindex
X-PUBLISHED-TTL:PT1H
BEGIN:VTIMEZONE
TZID:Asia/Tokyo
BEGIN:STANDARD
TZOFFSETFROM:+0900
TZOFFSETTO:+0900
TZNAME:JST
DTSTART:20240101T000000
END:STANDARD
END:VTIMEZONE
BEGIN:VEVENT
DTSTART;TZID=Asia/Tokyo:20240822T063000
DTEND;TZID=Asia/Tokyo:20240823T183000
DTSTAMP:20260421T034837
CREATED:20240712T204148Z
LAST-MODIFIED:20240724T070335Z
UID:1819-1724308200-1724437800@6k.kibusi.com
SUMMARY:暁天講座
DESCRIPTION:暁天講座\n草取り
URL:https://6k.kibusi.com/event/%e6%9a%81%e5%a4%a9%e8%ac%9b%e5%ba%a7/
LOCATION:山形教会\, 木の実町9-26\, 山形市\, 日本
END:VEVENT
BEGIN:VEVENT
DTSTART;TZID=Asia/Tokyo:20240821T133000
DTEND;TZID=Asia/Tokyo:20240821T163000
DTSTAMP:20260421T034837
CREATED:20240731T173818Z
LAST-MODIFIED:20240731T173818Z
UID:2738-1724247000-1724257800@6k.kibusi.com
SUMMARY:山形同朋の会
DESCRIPTION:
URL:https://6k.kibusi.com/event/%e5%b1%b1%e5%bd%a2%e5%90%8c%e6%9c%8b%e3%81%ae%e4%bc%9a-2/
LOCATION:山形教会\, 木の実町9-26\, 山形市\, 日本
END:VEVENT
BEGIN:VEVENT
DTSTART;TZID=Asia/Tokyo:20240808T070000
DTEND;TZID=Asia/Tokyo:20240808T083000
DTSTAMP:20260421T034837
CREATED:20240804T005839Z
LAST-MODIFIED:20240806T052052Z
UID:2857-1723100400-1723105800@6k.kibusi.com
SUMMARY:東北別院暁天講座
DESCRIPTION:http://www.sendaikyouku.net/otera/t-betsuin/
URL:https://6k.kibusi.com/event/%e6%9d%b1%e5%8c%97%e5%88%a5%e9%99%a2%e6%9a%81%e5%a4%a9%e8%ac%9b%e5%ba%a7/
END:VEVENT
BEGIN:VEVENT
DTSTART;TZID=Asia/Tokyo:20240801T143000
DTEND;TZID=Asia/Tokyo:20240801T163000
DTSTAMP:20260421T034837
CREATED:20240712T204015Z
LAST-MODIFIED:20240724T065924Z
UID:1817-1722522600-1722529800@6k.kibusi.com
SUMMARY:大谷大学公開講演会
DESCRIPTION:谷大講演会81
URL:https://6k.kibusi.com/event/%e5%a4%a7%e8%b0%b7%e5%a4%a7%e5%ad%a6%e5%85%ac%e9%96%8b%e8%ac%9b%e6%bc%94%e4%bc%9a/
END:VEVENT
BEGIN:VEVENT
DTSTART;TZID=Asia/Tokyo:20240731T133000
DTEND;TZID=Asia/Tokyo:20240731T170000
DTSTAMP:20260421T034837
CREATED:20240712T202805Z
LAST-MODIFIED:20240712T202805Z
UID:1810-1722432600-1722445200@6k.kibusi.com
SUMMARY:山形同朋の会
DESCRIPTION:
URL:https://6k.kibusi.com/event/%e5%b1%b1%e5%bd%a2%e5%90%8c%e6%9c%8b%e3%81%ae%e4%bc%9a/
LOCATION:山形教会\, 木の実町9-26\, 山形市\, 日本
END:VEVENT
END:VCALENDAR