BEGIN:VCALENDAR
VERSION:2.0
PRODID:-//共に学ぼう - ECPv6.15.0.1//NONSGML v1.0//EN
CALSCALE:GREGORIAN
METHOD:PUBLISH
X-ORIGINAL-URL:https://6k.kibusi.com
X-WR-CALDESC:共に学ぼう のイベント
REFRESH-INTERVAL;VALUE=DURATION:PT1H
X-Robots-Tag:noindex
X-PUBLISHED-TTL:PT1H
BEGIN:VTIMEZONE
TZID:Asia/Tokyo
BEGIN:STANDARD
TZOFFSETFROM:+0900
TZOFFSETTO:+0900
TZNAME:JST
DTSTART:20240101T000000
END:STANDARD
END:VTIMEZONE
BEGIN:VEVENT
DTSTART;TZID=Asia/Tokyo:20241026T110000
DTEND;TZID=Asia/Tokyo:20241026T170000
DTSTAMP:20260421T020733
CREATED:20241003T211053Z
LAST-MODIFIED:20241003T211541Z
UID:3534-1729940400-1729962000@6k.kibusi.com
SUMMARY:子どものつどい
DESCRIPTION:2024年度子どものつどい「報恩講に出仕してみよう！」\n\n\n10月26日(土) 山形教会にて子どものつどいが開催されます。ぜひご参加ください。
URL:https://6k.kibusi.com/event/%e5%ad%90%e3%81%a9%e3%82%82%e3%81%ae%e3%81%a4%e3%81%a9%e3%81%84/
ATTACH;FMTTYPE=image/jpeg:https://6k.kibusi.com/wp-content/uploads/2024/10/こどものつどい-jpg.webp
END:VEVENT
BEGIN:VEVENT
DTSTART;TZID=Asia/Tokyo:20241024T133000
DTEND;TZID=Asia/Tokyo:20241024T170000
DTSTAMP:20260421T020733
CREATED:20240925T003753Z
LAST-MODIFIED:20240925T003914Z
UID:3479-1729776600-1729789200@6k.kibusi.com
SUMMARY:山形同朋の会
DESCRIPTION:
URL:https://6k.kibusi.com/event/%e5%b1%b1%e5%bd%a2%e5%90%8c%e6%9c%8b%e3%81%ae%e4%bc%9a-3/
LOCATION:山形教会\, 木の実町9-26\, 山形市\, 日本
END:VEVENT
BEGIN:VEVENT
DTSTART;TZID=Asia/Tokyo:20241021T123000
DTEND;TZID=Asia/Tokyo:20241021T170000
DTSTAMP:20260421T020733
CREATED:20240925T004135Z
LAST-MODIFIED:20241003T211714Z
UID:3481-1729513800-1729530000@6k.kibusi.com
SUMMARY:仏華講習会
DESCRIPTION:
URL:https://6k.kibusi.com/event/%e4%bb%8f%e8%8f%af%e8%ac%9b%e7%bf%92%e4%bc%9a/
ATTACH;FMTTYPE=image/png:https://6k.kibusi.com/wp-content/uploads/2024/09/仏華１.pdf.png
END:VEVENT
BEGIN:VEVENT
DTSTART;TZID=Asia/Tokyo:20241019T140000
DTEND;TZID=Asia/Tokyo:20241019T170000
DTSTAMP:20260421T020733
CREATED:20240905T052126Z
LAST-MODIFIED:20240905T052136Z
UID:3234-1729346400-1729357200@6k.kibusi.com
SUMMARY:お寺で笑おう・極楽落語
DESCRIPTION:
URL:https://6k.kibusi.com/event/%e3%81%8a%e5%af%ba%e3%81%a7%e7%ac%91%e3%81%8a%e3%81%86%e3%83%bb%e6%a5%b5%e6%a5%bd%e8%90%bd%e8%aa%9e/
END:VEVENT
BEGIN:VEVENT
DTSTART;TZID=Asia/Tokyo:20241016T133000
DTEND;TZID=Asia/Tokyo:20241016T163000
DTSTAMP:20260421T020733
CREATED:20240902T185740Z
LAST-MODIFIED:20240926T203929Z
UID:3201-1729085400-1729096200@6k.kibusi.com
SUMMARY:定例講座・橘佑輝氏
DESCRIPTION:
URL:https://6k.kibusi.com/event/%e5%ae%9a%e4%be%8b%e8%ac%9b%e5%ba%a7%e3%83%bb%e6%a9%98%e4%bd%91%e8%bc%9d%e6%b0%8f/
LOCATION:山形教会\, 木の実町9-26\, 山形市\, 日本
ATTACH;FMTTYPE=image/jpeg:https://6k.kibusi.com/wp-content/uploads/wp-links-page/-11722732581.jpg
END:VEVENT
BEGIN:VEVENT
DTSTART;TZID=Asia/Tokyo:20241002T133000
DTEND;TZID=Asia/Tokyo:20241002T163000
DTSTAMP:20260421T020733
CREATED:20240902T185536Z
LAST-MODIFIED:20240926T203816Z
UID:3199-1727875800-1727886600@6k.kibusi.com
SUMMARY:定例講座・佐々木徹氏
DESCRIPTION:
URL:https://6k.kibusi.com/event/%e5%ae%9a%e4%be%8b%e8%ac%9b%e5%ba%a7%e3%83%bb%e4%bd%90%e3%80%85%e6%9c%a8%e5%be%b9%e6%b0%8f/
LOCATION:山形教会\, 木の実町9-26\, 山形市\, 日本
ATTACH;FMTTYPE=image/jpeg:https://6k.kibusi.com/wp-content/uploads/wp-links-page/-11722732581.jpg
END:VEVENT
BEGIN:VEVENT
DTSTART;TZID=Asia/Tokyo:20240924T133000
DTEND;TZID=Asia/Tokyo:20240924T153000
DTSTAMP:20260421T020733
CREATED:20240902T190746Z
LAST-MODIFIED:20240902T190746Z
UID:3203-1727184600-1727191800@6k.kibusi.com
SUMMARY:山形教会同朋の会・総会
DESCRIPTION:
URL:https://6k.kibusi.com/event/%e5%b1%b1%e5%bd%a2%e6%95%99%e4%bc%9a%e5%90%8c%e6%9c%8b%e3%81%ae%e4%bc%9a%e3%83%bb%e7%b7%8f%e4%bc%9a/
LOCATION:山形教会\, 木の実町9-26\, 山形市\, 日本
END:VEVENT
BEGIN:VEVENT
DTSTART;VALUE=DATE:20240920
DTEND;VALUE=DATE:20241105
DTSTAMP:20260421T020733
CREATED:20240905T052342Z
LAST-MODIFIED:20240926T203711Z
UID:3237-1726790400-1730764799@6k.kibusi.com
SUMMARY:親鸞と東北の念仏
DESCRIPTION:
URL:https://6k.kibusi.com/event/%e8%a6%aa%e9%b8%9e%e3%81%a8%e6%9d%b1%e5%8c%97%e3%81%ae%e5%bf%b5%e4%bb%8f/
ATTACH;FMTTYPE=image/jpeg:https://6k.kibusi.com/wp-content/uploads/2024/09/親鸞１.pdf.jpg
END:VEVENT
BEGIN:VEVENT
DTSTART;TZID=Asia/Tokyo:20240912T150000
DTEND;TZID=Asia/Tokyo:20240912T170000
DTSTAMP:20260421T020733
CREATED:20240905T053040Z
LAST-MODIFIED:20240905T053040Z
UID:3241-1726153200-1726160400@6k.kibusi.com
SUMMARY:こどもの貧困について
DESCRIPTION:
URL:https://6k.kibusi.com/event/%e3%81%93%e3%81%a9%e3%82%82%e3%81%ae%e8%b2%a7%e5%9b%b0%e3%81%ab%e3%81%a4%e3%81%84%e3%81%a6/
END:VEVENT
BEGIN:VEVENT
DTSTART;TZID=Asia/Tokyo:20240904T133000
DTEND;TZID=Asia/Tokyo:20240904T163000
DTSTAMP:20260421T020733
CREATED:20240824T151338Z
LAST-MODIFIED:20240824T153012Z
UID:3147-1725456600-1725467400@6k.kibusi.com
SUMMARY:定例講座　菅生　鈴　氏
DESCRIPTION:https://6k.kibusi.com/2024%e5%b1%b1%e5%bd%a2%e6%95%99%e4%bc%9a%e4%ba%8b%e6%a5%ad%e8%a8%88%e7%94%bb/
URL:https://6k.kibusi.com/event/%e5%ae%9a%e4%be%8b%e8%ac%9b%e5%ba%a7-2/
LOCATION:山形教会\, 木の実町9-26\, 山形市\, 日本
END:VEVENT
BEGIN:VEVENT
DTSTART;TZID=Asia/Tokyo:20240822T063000
DTEND;TZID=Asia/Tokyo:20240823T183000
DTSTAMP:20260421T020733
CREATED:20240712T204148Z
LAST-MODIFIED:20240724T070335Z
UID:1819-1724308200-1724437800@6k.kibusi.com
SUMMARY:暁天講座
DESCRIPTION:暁天講座\n草取り
URL:https://6k.kibusi.com/event/%e6%9a%81%e5%a4%a9%e8%ac%9b%e5%ba%a7/
LOCATION:山形教会\, 木の実町9-26\, 山形市\, 日本
END:VEVENT
BEGIN:VEVENT
DTSTART;TZID=Asia/Tokyo:20240821T133000
DTEND;TZID=Asia/Tokyo:20240821T163000
DTSTAMP:20260421T020733
CREATED:20240731T173818Z
LAST-MODIFIED:20240731T173818Z
UID:2738-1724247000-1724257800@6k.kibusi.com
SUMMARY:山形同朋の会
DESCRIPTION:
URL:https://6k.kibusi.com/event/%e5%b1%b1%e5%bd%a2%e5%90%8c%e6%9c%8b%e3%81%ae%e4%bc%9a-2/
LOCATION:山形教会\, 木の実町9-26\, 山形市\, 日本
END:VEVENT
BEGIN:VEVENT
DTSTART;TZID=Asia/Tokyo:20240808T070000
DTEND;TZID=Asia/Tokyo:20240808T083000
DTSTAMP:20260421T020733
CREATED:20240804T005839Z
LAST-MODIFIED:20240806T052052Z
UID:2857-1723100400-1723105800@6k.kibusi.com
SUMMARY:東北別院暁天講座
DESCRIPTION:http://www.sendaikyouku.net/otera/t-betsuin/
URL:https://6k.kibusi.com/event/%e6%9d%b1%e5%8c%97%e5%88%a5%e9%99%a2%e6%9a%81%e5%a4%a9%e8%ac%9b%e5%ba%a7/
END:VEVENT
BEGIN:VEVENT
DTSTART;TZID=Asia/Tokyo:20240801T143000
DTEND;TZID=Asia/Tokyo:20240801T163000
DTSTAMP:20260421T020733
CREATED:20240712T204015Z
LAST-MODIFIED:20240724T065924Z
UID:1817-1722522600-1722529800@6k.kibusi.com
SUMMARY:大谷大学公開講演会
DESCRIPTION:谷大講演会81
URL:https://6k.kibusi.com/event/%e5%a4%a7%e8%b0%b7%e5%a4%a7%e5%ad%a6%e5%85%ac%e9%96%8b%e8%ac%9b%e6%bc%94%e4%bc%9a/
END:VEVENT
BEGIN:VEVENT
DTSTART;TZID=Asia/Tokyo:20240731T133000
DTEND;TZID=Asia/Tokyo:20240731T170000
DTSTAMP:20260421T020733
CREATED:20240712T202805Z
LAST-MODIFIED:20240712T202805Z
UID:1810-1722432600-1722445200@6k.kibusi.com
SUMMARY:山形同朋の会
DESCRIPTION:
URL:https://6k.kibusi.com/event/%e5%b1%b1%e5%bd%a2%e5%90%8c%e6%9c%8b%e3%81%ae%e4%bc%9a/
LOCATION:山形教会\, 木の実町9-26\, 山形市\, 日本
END:VEVENT
END:VCALENDAR